{
 "currentVersion": 11.3,
 "serviceDescription": "testservices/DHMVII_DTM_A_2014_11testkatja",
 "name": "testservices/DHMVII_DTM_A_2014_11testkatja",
 "description": "",
 "extent": {
  "xmin": 129999.60534198576,
  "ymin": 178000.1666363217,
  "xmax": 225999.60534198594,
  "ymax": 258000.1666363366,
  "spatialReference": {
   "wkid": 31370,
   "latestWkid": 31370
  }
 },
 "initialExtent": {
  "xmin": 129999.60534198576,
  "ymin": 178000.1666363217,
  "xmax": 225999.60534198594,
  "ymax": 258000.1666363366,
  "spatialReference": {
   "wkid": 31370,
   "latestWkid": 31370
  }
 },
 "fullExtent": {
  "xmin": 129999.60534198576,
  "ymin": 178000.1666363217,
  "xmax": 225999.60534198594,
  "ymax": 258000.1666363366,
  "spatialReference": {
   "wkid": 31370,
   "latestWkid": 31370
  }
 },
 "sortableFields": "",
 "bandCount": 1,
 "pixelType": "F32",
 "minValues": [
  -25.309999465942383
 ],
 "maxValues": [
  148.05999755859375
 ],
 "meanValues": [
  22.03315220770064
 ],
 "stdvValues": [
  15.110664963098577
 ],
 "hasMultidimensions": false,
 "pixelSizeX": 1.0000000000000018,
 "pixelSizeY": 1.0000000000001863,
 "meanPixelSize": 1.0000000000000941,
 "datasetFormat": "FGDBR",
 "uncompressedSize": 30720000000,
 "blockWidth": 128,
 "blockHeight": 128,
 "compressionType": "LZ77",
 "bandNames": [
  "Band_1"
 ],
 "allowCopy": true,
 "allowAnalysis": true,
 "itemAccess": false,
 "inspectionCapabilities": "",
 "minPixelSize": 0,
 "maxPixelSize": 0,
 "copyrightText": "",
 "serviceDataType": "esriImageServiceDataTypeGeneric",
 "serviceSourceType": "esriImageServiceSourceTypeDataset",
 "objectIdField": "",
 "fields": [],
 "capabilities": "Image,Metadata,Mensuration",
 "defaultMosaicMethod": "Center",
 "allowedMosaicMethods": "",
 "sortField": "",
 "sortValue": null,
 "sortAscending": true,
 "mosaicOperator": "First",
 "defaultCompressionQuality": 75,
 "defaultResamplingMethod": "Bilinear",
 "maxImageHeight": 4100,
 "maxImageWidth": 15000,
 "allowRasterFunction": true,
 "rasterFunctionInfos": [
  {
   "name": "None",
   "description": "",
   "help": ""
  }
 ],
 "rasterTypeInfos": [
  {
   "name": "Raster Dataset",
   "description": "Supports all ArcGIS Raster Datasets",
   "help": ""
  }
 ],
 "mensurationCapabilities": "Basic",
 "hasHistograms": true,
 "hasColormap": false,
 "hasRasterAttributeTable": false,
 "minScale": 0,
 "maxScale": 0,
 "exportTilesAllowed": false,
 "supportsStatistics": false,
 "supportsAdvancedQueries": false,
 "editFieldsInfo": null,
 "ownershipBasedAccessControlForRasters": null,
 "allowComputeTiePoints": false,
 "useStandardizedQueries": true,
 "advancedQueryCapabilities": {
  "useStandardizedQueries": true,
  "supportsStatistics": false,
  "supportsOrderBy": false,
  "supportsDistinct": false,
  "supportsPagination": false
 },
 "spatialReference": {
  "wkid": 31370,
  "latestWkid": 31370
 }
}
