View In:
ArcGIS JavaScript
ArcGIS Online Map Viewer
ArcGIS Earth
Service Description: Basis_Services/IS_DHM
Name: Basis_Services/IS_DHM
Description:
Single Fused Map Cache: false
Extent:
XMin: 129999.60534198576
YMin: 178000.1666363217
XMax: 225999.60534198594
YMax: 258000.1666363366
Spatial Reference: 31370
(31370)
Initial Extent:
XMin: 129999.60534198576
YMin: 178000.1666363217
XMax: 225999.60534198594
YMax: 258000.1666363366
Spatial Reference: 31370
(31370)
Full Extent:
XMin: 129999.60534198576
YMin: 178000.1666363217
XMax: 225999.60534198594
YMax: 258000.1666363366
Spatial Reference: 31370
(31370)
Pixel Size X: 1.0000000000000018
Pixel Size Y: 1.0000000000001863
Band Count: 1
Pixel Type: F32
RasterFunction Infos: {"rasterFunctionInfos": [{
"name": "None",
"description": "",
"help": ""
}]}
Mensuration Capabilities: Basic
Inspection Capabilities:
Has Histograms: true
Has Colormap: false
Has Multi Dimensions : false
Rendering Rule:
Min Scale: 0
Max Scale: 0
Copyright Text:
Service Data Type: esriImageServiceDataTypeGeneric
Min Values: -25.309999465942383
Max Values: 148.05999755859375
Mean Values: 22.03315220770064
Standard Deviation Values: 15.110664963098577
Object ID Field:
Fields:
None
Default Mosaic Method: Center
Allowed Mosaic Methods:
SortField:
SortValue: null
Mosaic Operator: First
Default Compression Quality: 75
Default Resampling Method: Bilinear
Max Record Count: null
Max Image Height: 4100
Max Image Width: 15000
Max Download Image Count: null
Max Mosaic Image Count: null
Allow Raster Function: true
Allow Copy: true
Allow Analysis: true
Allow Compute TiePoints: false
Supports Statistics: false
Supports Advanced Queries: false
Use StandardizedQueries: true
Raster Type Infos:
Name: Raster Dataset
Description: Supports all ArcGIS Raster Datasets
Help:
Has Raster Attribute Table: false
Edit Fields Info: null
Ownership Based AccessControl For Rasters: null
Child Resources:
Info
Histograms
Statistics
Key Properties
Legend
Raster Function Infos
Supported Operations:
Export Image
Identify
Measure
Compute Histograms
Compute Statistics Histograms
Get Samples
Compute Class Statistics
Query Boundary
Compute Pixel Location
Compute Angles
Validate
Project